BEGIN:VCALENDAR
VERSION:2.0
BEGIN:VEVENT
CLASS:PUBLIC
CATEGORIES:MEETING
DTSTART;TZID=Europe/London:20260327T180000
DTEND;TZID=Europe/London:20260327T180000
SUMMARY:BB BlackDog Steampunk Rock at The Black Market Venue
DESCRIPTION:Price: Free\nAge Limit: All Ages\n\nDetails: Fricker Fest, a Free Kozmic Celebration of the life of Andy Fricker.\nEntry by pay what you can Donation to be shared between the Bands .\nFeaturing\nRadical Dance Faction\nHaze\nBB BlackDog\nThe Sonic Trip Project\nThe Spiral Navigators\nFiregarden\nNukli\nRoz Bruce\nThe Fricker Jam\nand Many More\nOriginally The Black Market was chosen as the Last Festival venue the Spirals Played.\nEntry will be By voluntary Donation, which will be split between the Bands.\nCamper Spots are available (please contact the venue to book a Place, or risk it on the day ! there are some quiet road spots behind the venue too ) , Travel Lodges at Worksop and Mansfield, a Camp Site down the road,\nWatch this Space for Full Timings and acts as they are announced
LOCATION:The Black Market Venue - High Street, Mansfield, NOTTS, NG20 0AB, UK
END:VEVENT

END:VCALENDAR
