BEGIN:VCALENDAR
VERSION:2.0
BEGIN:VEVENT
CLASS:PUBLIC
CATEGORIES:MEETING
DTSTART;TZID=Europe/London:20260221T120000
DTEND;TZID=Europe/London:20260221T120000
SUMMARY:BB BlackDog Steampunk Rock at The Gladstone
DESCRIPTION:Age Limit: All Ages\n\nDetails: On the 21st of February, our function room will be hosting Andy Fest!\nAn all day charity music festival, in memory of Andrew Peat, who sadly passed away from cancer in the summer of 2025.\nAndrew was a talented musician. He was in many bands throughout his life and some of the are getting back together to perform at this festival.\nAndrew was also a very talented artist. His drawings and paintings were eye catching and remarkable.\nPlease follow this link below to view some of his many works.\nhttps://www.instagram.com/andypeat_art/\nMostly, Andrew was an inspiration to everyone who met him. He was hilarious, caring, optimistic and mostly of all an all round amazing person.\nWe will be raising money for St Gemma&#39;s Hospice in Leeds where Andrew spent his final days being cared for by the brilliant staff.\nBelow is the link to the Just Giving page where we would be honoured if you are able to make a donation\nhttps://www.justgiving.com/page/andy-peat-79-25...\nThe acts that are playing on the day are a mixture of bands Andrew was in and people who knew and cared about Andrew\nThe line up is as follows,\nGreedy Sauce\nBB Blackdog\nSatnam&#39;s Tash\nMucus Mules\nWill Jeffery\nTom Manning\nFat Elvis\nFanatics of Xerox\nDoug Greenwood\nJohn Stratford\n\nPlease come along on the day, drink, enjoy the music, donate to a great cause, swap tales and celebrate this truly wonderful person.
LOCATION:The Gladstone - 45 Loscoe Road, Nottingham, ENG, NG5, UK
END:VEVENT

END:VCALENDAR
