BEGIN:VCALENDAR
VERSION:2.0
BEGIN:VEVENT
CLASS:PUBLIC
CATEGORIES:MEETING
DTSTART;TZID=America/New_York:20260418T200000
DTEND;TZID=America/New_York:20260418T200000
SUMMARY:Daniel Tour2019 at SSA of America
DESCRIPTION:Price: 20 dollars\nClick here to buy tickets: https://ssa.cc/delandapalooza.html\nAge Limit: All Ages\n\nDetails: DANIEL performing for VHV United and St Judes .  America disabled combat veteran
LOCATION:SSA of America - 105 West Indiana Ave, Deland, FL, 32720, US
END:VEVENT

END:VCALENDAR
