BEGIN:VCALENDAR
VERSION:2.0
BEGIN:VEVENT
CLASS:PUBLIC
CATEGORIES:MEETING
DTSTART;TZID=America/Chicago:20260503T190000
DTEND;TZID=America/Chicago:20260503T190000
SUMMARY:Texas Flood at Bernhardt Winery
DESCRIPTION:Age Limit: All Ages
LOCATION:Bernhardt Winery - Plantersville, TX, US
END:VEVENT

END:VCALENDAR
