BEGIN:VCALENDAR
VERSION:2.0
BEGIN:VEVENT
CLASS:PUBLIC
CATEGORIES:MEETING
DTSTART;TZID=America/New_York:20260301T210000
DTEND;TZID=America/New_York:20260301T210000
SUMMARY:Spiros Soukis at SILVANA
DESCRIPTION:Price: No Cover \nClick here to buy tickets: https://www.silvana-nyc.com/calendar.php\nAge Limit: All Ages\n\nDetails: A collection of songs form my albums E.P.s and Singles that will have you dance and sing along! \n\n
LOCATION:SILVANA - 300 West 116th Street, New York, NY, 10026, US
END:VEVENT

END:VCALENDAR
