BEGIN:VCALENDAR
VERSION:2.0
BEGIN:VEVENT
CLASS:PUBLIC
CATEGORIES:MEETING
DTSTART;TZID=America/Chicago:20260418T180000
DTEND;TZID=America/Chicago:20260418T180000
SUMMARY:Brian Grace Music at branch & bird
DESCRIPTION:Age Limit: All Ages
LOCATION:branch & bird - 640 Taylor Street, Fort Worth, TX, 76102, US
END:VEVENT

END:VCALENDAR
