BEGIN:VCALENDAR
VERSION:2.0
BEGIN:VEVENT
CLASS:PUBLIC
CATEGORIES:MEETING
DTSTART;TZID=America/Chicago:20260321T200000
DTEND;TZID=America/Chicago:20260321T200000
SUMMARY:Brian Grace Music at Reina's
DESCRIPTION:Age Limit: All Ages\n\nDetails: Brian Grace will be at Reina&#39;s in Bridgeport on Saturday, March 21st at 8 PM!
LOCATION:Reina's - 1005 Halsell Street, Bridgeport, TX, 76426, US
END:VEVENT

END:VCALENDAR
