BEGIN:VCALENDAR
VERSION:2.0
BEGIN:VEVENT
CLASS:PUBLIC
CATEGORIES:MEETING
DTSTART;TZID=America/Chicago:20260320T183000
DTEND;TZID=America/Chicago:20260320T183000
SUMMARY:Brian Grace Music at Los Primos Méxican Restaurant & Cantina
DESCRIPTION:Age Limit: All Ages\n\nDetails: Brian Grace will be at Los Primos Mexican Cantina on Friday, March 20th at 6:30 PM!
LOCATION:Los Primos Méxican Restaurant & Cantina - 902 Northeast Big Bend Trail, Glen Rose, TX, 76043, US
END:VEVENT

END:VCALENDAR
