BEGIN:VCALENDAR
VERSION:2.0
BEGIN:VEVENT
CLASS:PUBLIC
CATEGORIES:MEETING
DTSTART;TZID=America/Chicago:20260313T200000
DTEND;TZID=America/Chicago:20260313T200000
SUMMARY:Brian Grace Music at Sweetwater Grill
DESCRIPTION:Age Limit: All Ages\n\nDetails: Brian Grace and Matt Bradshaw will be at Sweetwater Grill on Friday, March 13th at 8 PM!
LOCATION:Sweetwater Grill - 4884 State 276, Royse City, TX, 75189, US
END:VEVENT

END:VCALENDAR
