BEGIN:VCALENDAR
VERSION:2.0
BEGIN:VEVENT
CLASS:PUBLIC
CATEGORIES:MEETING
DTSTART;TZID=America/Chicago:20260306T210000
DTEND;TZID=America/Chicago:20260306T210000
SUMMARY:Brian Grace Music at C&L Gator's Cantina
DESCRIPTION:Age Limit: All Ages\n\nDetails: Brian Grace will be at Gator&#39;s Cantina in Weatherford on Friday, March 6th at 9 PM!
LOCATION:C&L Gator's Cantina - 7974 Bethel Road, Weatherford, TX, 76087, US
END:VEVENT

END:VCALENDAR
