BEGIN:VCALENDAR
VERSION:2.0
BEGIN:VEVENT
CLASS:PUBLIC
CATEGORIES:MEETING
DTSTART;TZID=America/New_York:20260605T143000
DTEND;TZID=America/New_York:20260605T143000
SUMMARY:Diamond Dixie at Carolina Country Music Festival
DESCRIPTION:Age Limit: All Ages\n\nDetails: We will be playing from 2:30-3:00pm so get out there early!
LOCATION:Carolina Country Music Festival - 5300 Ocean Boulevard, Myrtle Beach, SC, 29577, US
END:VEVENT

END:VCALENDAR
