BEGIN:VCALENDAR
VERSION:2.0
BEGIN:VEVENT
CLASS:PUBLIC
CATEGORIES:MEETING
DTSTART;TZID=America/New_York:20260411T200000
DTEND;TZID=America/New_York:20260411T200000
SUMMARY:Diamond Dixie at Goldies
DESCRIPTION:Price: $10 after 8:00pm\nAge Limit: All Ages\n\nDetails: We&#39;[ll be playing from 9:00-12:00am
LOCATION:Goldies - 3601 South Boulevard, Charlotte, NC, 28209, US
END:VEVENT

END:VCALENDAR
