BEGIN:VCALENDAR
VERSION:2.0
BEGIN:VEVENT
CLASS:PUBLIC
CATEGORIES:MEETING
DTSTART;TZID=America/New_York:20260410T210000
DTEND;TZID=America/New_York:20260410T210000
SUMMARY:Diamond Dixie at Cancun Cantina
DESCRIPTION:Age Limit: All Ages\n\nDetails: We will be playing from 9:00-12:15am\n$10 cover
LOCATION:Cancun Cantina - 7501 Old Telegraph Road, Hanover, MD, 21076, US
END:VEVENT

END:VCALENDAR
