BEGIN:VCALENDAR
VERSION:2.0
BEGIN:VEVENT
CLASS:PUBLIC
CATEGORIES:MEETING
DTSTART;TZID=America/New_York:20260409T200000
DTEND;TZID=America/New_York:20260409T200000
SUMMARY:Diamond Dixie at Hard Rock Hotel &amp; Casino Bristol
DESCRIPTION:Age Limit: All Ages\n\nDetails: We&#39;ll be playing from 8:00-10:00pm
LOCATION:Hard Rock Hotel &amp; Casino Bristol - 500 Gate City Highway, Bristol, VA, 24201, US
END:VEVENT

END:VCALENDAR
