BEGIN:VCALENDAR
VERSION:2.0
BEGIN:VEVENT
CLASS:PUBLIC
CATEGORIES:MEETING
DTSTART;TZID=America/Chicago:20260327T160000
DTEND;TZID=America/Chicago:20260327T160000
SUMMARY:Diamond Dixie at Rodeo Austin
DESCRIPTION:Age Limit: All Ages\n\nDetails: We will be back at the Austin Rodeo from 4:00-5:30pm. Can&#39;t wait to see y&#39;all there!
LOCATION:Rodeo Austin - 9100 Decker Lake Road, Austin, TX, 78724, US
END:VEVENT

END:VCALENDAR
