BEGIN:VCALENDAR
VERSION:2.0
BEGIN:VEVENT
CLASS:PUBLIC
CATEGORIES:MEETING
DTSTART;TZID=America/New_York:20260314T173000
DTEND;TZID=America/New_York:20260314T173000
SUMMARY:Diamond Dixie at BoatYard Lake Norman
DESCRIPTION:Price: $10\nAge Limit: All Ages\n\nDetails: Come join us for St. Patty&#39;s at the Boatyard\nfrom 5:30-7:00pm.
LOCATION:BoatYard Lake Norman - 18418 Statesville Road, Cornelius, NC, 28031, US
END:VEVENT

END:VCALENDAR
