BEGIN:VCALENDAR
VERSION:2.0
BEGIN:VEVENT
CLASS:PUBLIC
CATEGORIES:MEETING
DTSTART;TZID=America/New_York:20260307T180000
DTEND;TZID=America/New_York:20260307T180000
SUMMARY:Diamond Dixie at Evermore Orlando Resort
DESCRIPTION:Age Limit: All Ages\n\nDetails: Come join us at The Evermore Orlando Resort from 6:30-9:00pm.
LOCATION:Evermore Orlando Resort - 1590 Evermore Way, Orange County, FL, 32836, US
END:VEVENT

END:VCALENDAR
