BEGIN:VCALENDAR
VERSION:2.0
BEGIN:VEVENT
CLASS:PUBLIC
CATEGORIES:MEETING
DTSTART;TZID=America/Chicago:20260228T140000
DTEND;TZID=America/Chicago:20260228T140000
SUMMARY:Diamond Dixie at Houston rodeo cook off
DESCRIPTION:Age Limit: All Ages\n\nDetails: We will be back agin this year playing acoustic from 2:00-4:00pm at the Houston Rodeo Cook off.
LOCATION:Houston rodeo cook off - Houston, TX, US
END:VEVENT

END:VCALENDAR
