BEGIN:VCALENDAR
VERSION:2.0
BEGIN:VEVENT
CLASS:PUBLIC
CATEGORIES:MEETING
DTSTART;TZID=America/Vancouver:20260919T200000
DTEND;TZID=America/Vancouver:20260919T200000
SUMMARY:Michael Charles at Royal Canadian Legion Branch 173
DESCRIPTION:Age Limit: All Ages\n\nDetails: “Touring his 19th international tour, the “Where to Next 2026” tour and known for his expressive guitar work and blistering guitar solos, Australian born, Chicago Blues Hall of Famer, Michael Charles, accompanied by a dynamic, well-rehearsed band, delivers a memorable, multi-genre performance of contemporary blues, blues-based rock and more.  Come out and experience Michael Charles live. The music, and the man, will leave an imprint on your soul.”
LOCATION:Royal Canadian Legion Branch 173 - 8310 78 Avenue, Osoyoos, BC, V0H, CA
END:VEVENT

END:VCALENDAR
