BEGIN:VCALENDAR
VERSION:2.0
BEGIN:VEVENT
CLASS:PUBLIC
CATEGORIES:MEETING
DTSTART;TZID=America/New_York:20260227T140000
DTEND;TZID=America/New_York:20260227T140000
SUMMARY:Bryan K Buchanan at Hideaway Bar & Grill
DESCRIPTION:Age Limit: All Ages\n\nDetails: Bikeweek
LOCATION:Hideaway Bar & Grill - 245 Old Highway 17, Pomona Park, FL, 32181, US
END:VEVENT

END:VCALENDAR
