BEGIN:VCALENDAR
VERSION:2.0
BEGIN:VEVENT
CLASS:PUBLIC
CATEGORIES:MEETING
DTSTART;TZID=America/Chicago:20260303T150000
DTEND;TZID=America/Chicago:20260303T150000
SUMMARY:DANICA ~ Solo at Longboard Bar and Grill
DESCRIPTION:Age Limit: All Ages
LOCATION:Longboard Bar and Grill - 205 West Palm Street, South Padre Island, TX, 78597, US
END:VEVENT

END:VCALENDAR
