BEGIN:VCALENDAR
VERSION:2.0
BEGIN:VEVENT
CLASS:PUBLIC
CATEGORIES:MEETING
DTSTART;TZID=America/Detroit:20260221T200000
DTEND;TZID=America/Detroit:20260221T200000
SUMMARY:Daniel Tour2019 at Cottage Studios
DESCRIPTION:Price: Free fir St Judes donations\nClick here to buy tickets: https://cottagestudiosllc@gmail.com\nAge Limit: All Ages\n\nDetails: World stream event via SWGC satellite from Cottage Studios.\nFor awareness to help St Judes
LOCATION:Cottage Studios - Studio Site #133, Hadley, MI, 48440, US
END:VEVENT

END:VCALENDAR
