BEGIN:VCALENDAR
VERSION:2.0
BEGIN:VEVENT
CLASS:PUBLIC
CATEGORIES:MEETING
DTSTART;TZID=America/Chicago:20260627T150000
DTEND;TZID=America/Chicago:20260627T150000
SUMMARY:Michael Charles at Pettit's Lakeview Campground and Bar
DESCRIPTION:Age Limit: All Ages\n\nDetails: “Touring his 19th international tour, the “Where to Next 2026” tour and known for his expressive guitar work and blistering guitar solos, Australian born, Chicago Blues Hall of Famer, Michael Charles, accompanied by a dynamic, well-rehearsed band, delivers a memorable, multi-genre performance of contemporary blues, blues-based rock and more.  Come out and experience Michael Charles live. The music, and the man, will leave an imprint on your soul.”
LOCATION:Pettit's Lakeview Campground and Bar - 1901 Wisconsin 59, Milton, WI, 53563, US
END:VEVENT

END:VCALENDAR
