BEGIN:VCALENDAR
VERSION:2.0
BEGIN:VEVENT
CLASS:PUBLIC
CATEGORIES:MEETING
DTSTART;TZID=America/New_York:20260606T190000
DTEND;TZID=America/New_York:20260606T190000
SUMMARY:Eleni Skiba at Banana Boat
DESCRIPTION:Age Limit: All Ages\n\nDetails: Samantha Russell Duo
LOCATION:Banana Boat - 739 E Ocean Ave, Boynton Beach, FL, 33435, US
END:VEVENT

END:VCALENDAR
