BEGIN:VCALENDAR
VERSION:2.0
BEGIN:VEVENT
CLASS:PUBLIC
CATEGORIES:MEETING
DTSTART;TZID=America/New_York:20260515T190000
DTEND;TZID=America/New_York:20260515T190000
SUMMARY:Eleni Skiba at Loyal Order of Moose 248
DESCRIPTION:Age Limit: All Ages\n\nDetails: Miz Behavin&#39;
LOCATION:Loyal Order of Moose 248 - 325 Pandora Avenue, Fort Pierce, FL, 34951, US
END:VEVENT

END:VCALENDAR
