BEGIN:VCALENDAR
VERSION:2.0
BEGIN:VEVENT
CLASS:PUBLIC
CATEGORIES:MEETING
DTSTART;TZID=America/Edmonton:20260918T200000
DTEND;TZID=America/Edmonton:20260918T200000
SUMMARY:Michael Charles at Jimmy's Pub and Grill
DESCRIPTION:Age Limit: 18+ or w/ adult\n\nDetails: In 2026 Michael Charles is touring his 19th international tour, the “Where to Next 2026” tour. Known for his expressive guitar work and blistering guitar solos, Australian born, Chicago Blues Hall of Famer, Michael Charles, accompanied by a dynamic, well-rehearsed band, delivers a memorable, multi-genre performance of contemporary blues, blues-based rock and more.  Come out and experience Michael Charles live. The music, and the man, will leave an imprint on your soul.
LOCATION:Jimmy's Pub and Grill - 1418 Canyon Street, Creston, BC, V0B, CA
END:VEVENT

END:VCALENDAR
