BEGIN:VCALENDAR
VERSION:2.0
BEGIN:VEVENT
CLASS:PUBLIC
CATEGORIES:MEETING
DTSTART;TZID=America/New_York:20260410T210000
DTEND;TZID=America/New_York:20260410T210000
SUMMARY:LYRIC at DJ Lyric at The Draftsman 
DESCRIPTION:Price: Free!\nAge Limit: All Ages
LOCATION:DJ Lyric at The Draftsman  - 68 Patton Avenue, Asheville, NC, 28801, US
END:VEVENT

END:VCALENDAR
