BEGIN:VCALENDAR
VERSION:2.0
BEGIN:VEVENT
CLASS:PUBLIC
CATEGORIES:MEETING
DTSTART;TZID=America/New_York:20260321T190000
DTEND;TZID=America/New_York:20260321T190000
SUMMARY:Eleni Skiba at Grind & Grape
DESCRIPTION:Age Limit: All Ages\n\nDetails: Miz Behavin&#39;
LOCATION:Grind & Grape - 925 Bougainvillea Lane, Vero Beach, FL, 32963, US
END:VEVENT

END:VCALENDAR
