BEGIN:VCALENDAR
VERSION:2.0
BEGIN:VEVENT
CLASS:PUBLIC
CATEGORIES:MEETING
DTSTART;TZID=America/New_York:20260313T180000
DTEND;TZID=America/New_York:20260313T180000
SUMMARY:Eleni Skiba at Duke's Bottoms Up Bar & Grill
DESCRIPTION:Age Limit: All Ages\n\nDetails: Miz Behavin&#39;
LOCATION:Duke's Bottoms Up Bar & Grill - 205 Southwest Monterey Road, Stuart, FL, 34994, US
END:VEVENT

END:VCALENDAR
