BEGIN:VCALENDAR
VERSION:2.0
BEGIN:VEVENT
CLASS:PUBLIC
CATEGORIES:MEETING
DTSTART;TZID=America/New_York:20260307T190000
DTEND;TZID=America/New_York:20260307T190000
SUMMARY:Eleni Skiba at Townies Tavern
DESCRIPTION:Age Limit: All Ages\n\nDetails: Miz Behavin&#39;
LOCATION:Townies Tavern - 2277 Southwest Martin Highway, Palm City, FL, 34990, US
END:VEVENT

END:VCALENDAR
