BEGIN:VCALENDAR
VERSION:2.0
BEGIN:VEVENT
CLASS:PUBLIC
CATEGORIES:MEETING
DTSTART;TZID=America/New_York:20260219T200000
DTEND;TZID=America/New_York:20260219T200000
SUMMARY:Eleni Skiba at Seminole Casino Brighton, FL
DESCRIPTION:Age Limit: All Ages\n\nDetails: Samantha Russell Trio
LOCATION:Seminole Casino Brighton, FL - 17735 RESERVATION ROAD, OKEECHOBEE, FL, 34974, US
END:VEVENT

END:VCALENDAR
