BEGIN:VCALENDAR
VERSION:2.0
BEGIN:VEVENT
CLASS:PUBLIC
CATEGORIES:MEETING
DTSTART;TZID=America/New_York:20260214T170000
DTEND;TZID=America/New_York:20260214T170000
SUMMARY:Eleni Skiba at Double Roads
DESCRIPTION:Age Limit: All Ages\n\nDetails: Miz Behavin&#39;
LOCATION:Double Roads - 103 U.S. 1, Jupiter, FL, 33477, US
END:VEVENT

END:VCALENDAR
