BEGIN:VCALENDAR
VERSION:2.0
BEGIN:VEVENT
CLASS:PUBLIC
CATEGORIES:MEETING
DTSTART;TZID=America/Los_Angeles:20260425T190000
DTEND;TZID=America/Los_Angeles:20260425T190000
SUMMARY:The Headliners at Club Fox
DESCRIPTION:Price: $24\nClick here to buy tickets: https://www.eventbrite.com/e/the-headliners-tickets-1980429342475?utm-campaign=social&amp;utm-content=attendeeshare&amp;utm-medium=discovery&amp;utm-term=listing&amp;utm-source=wsa&amp;aff=ebdsshwebmobile\nAge Limit: All Ages\n\nDetails: Music starts at 8. 
LOCATION:Club Fox - 2209 Broadway Street, Redwood City, CA, 94063, US
END:VEVENT

END:VCALENDAR
