BEGIN:VCALENDAR
VERSION:2.0
BEGIN:VEVENT
CLASS:PUBLIC
CATEGORIES:MEETING
DTSTART;TZID=America/New_York:20260412T160000
DTEND;TZID=America/New_York:20260412T160000
SUMMARY:Texas Flood at Capitol Center for the Arts
DESCRIPTION:Click here to buy tickets: https://www.ccanh.com/show/26000594?fbclid=IwY2xjawPVJYZleHRuA2FlbQIxMABicmlkETEyTkg4Sk9hb21NSnJiTXkwc3J0YwZhcHBfaWQQMjIyMDM5MTc4ODIwMDg5MgABHrq6mR57AhARwL_lUKj2p32BeEuCB6WtYCdatnvPecyUAFKzyzDYN5-2SSIi_aem_hU4YPbrkU11ivaIcGoHrjQ\nAge Limit: All Ages
LOCATION:Capitol Center for the Arts - 44 S Main St, Concord, NH, 03301, US
END:VEVENT

END:VCALENDAR
