BEGIN:VCALENDAR
VERSION:2.0
BEGIN:VEVENT
CLASS:PUBLIC
CATEGORIES:MEETING
DTSTART;TZID=America/Detroit:20260314T190000
DTEND;TZID=America/Detroit:20260314T190000
SUMMARY:Sweet Crystal at Cadieux Cafe
DESCRIPTION:Price: $10\nAge Limit: All Ages\n\nDetails: In the words of superstar David Winans II - this night will be &quot;an evening filled with positive, uplifting original compositions.&quot;\nSweet Crystal will be the special guest this night at one of Detroit&#39;s best venue for live music (and mussels!!!) - the Cadieux Cafe&#39;!\n\nhttps://www.facebook.com/events/2197370687427405\n\nLimited seating so why not make it out early for the Cafe&#39;s great food and then stay for the music. Sounds like a pretty sweet date night to us.\nCover charge.
LOCATION:Cadieux Cafe - 4300 Cadieux Road, Detroit, MI, 48224, US
END:VEVENT

END:VCALENDAR
