BEGIN:VCALENDAR
VERSION:2.0
BEGIN:VEVENT
CLASS:PUBLIC
CATEGORIES:MEETING
DTSTART;TZID=America/Detroit:20260221T190000
DTEND;TZID=America/Detroit:20260221T190000
SUMMARY:Detroit Trouble at Pontiac Little Art Theatre
DESCRIPTION:Price: $10 Adv / $15 Door\nClick here to buy tickets: https://events.getlocalhop.com/detroit-trouble/event/FIFvAS1AAU/\nAge Limit: All Ages\n\nDetails: What a very sweet event indeed ! Bringing the Sweet Crystal Lite show (all the music, half the band!) to a new and very cool venue - The P.L.A.T. (Pontiac&#39;s Little Art Theatre).\n\nhttps://www.facebook.com/PontiacsLittleArtTheatre\n\nGuitarist Bill Blatter and Keyboardist/Lead Vocalist MarQ Andrew Speck will be providing all the music and message that the ban is known, just a little...lighter!!\n\nFrom the venue/promoter:\nDetroit Trouble (Feat. Marq Andrew Speck &amp; Sweet Crystal &quot;Lite&quot;)\nDetroit Trouble has carved out its identity as Detroit’s hard rock/blues powerhouse trio, delivering high-octane, blue-collar blues-rock straight from the Motor City. Formed in 2015 by frontman Kidd Lightning with deep reverence for the blues greats and hard-rock energy, the band blends driving grooves, soulful swagger, and gritty riffs rooted in the heart and hustle of working-class life. Their performances bring originals and select rocking covers to life with raw energy, compelling audiences to feel every note and connect with music that speaks to the soul of the everyday grind and celebration alike.\nCheck them out: https://detroittroubleband.com/home\n🎶 Featuring: Marq Andrew Speck and Sweet Crystal &quot;Lite&quot;\nMarq Andrew Speck — known affectionately as “Q” — brings his “Solo But Never Alone” set to kick off the night. With a one-man/one-keyboard format grounded in soulful melodies and an uplifting message drawn from decades as an award-winning musician, Speck’s performance is intimate, heartfelt, and full of inspiration.\nCheck them out: https://sweetcrystal.com/solo-q\n\nTickets: $10 Advance (+ Tax) | $15 @ the Door\n\n🍿 Concessions &amp; Bar:\nOur Green Room Café will also be serving all-beef hot dogs, garlic sausage, and fresh popcorn, plus a full bar with Michigan-made beer and wine. You’ll also find Michigan-made candy, nuts, and chocolates for the ultimate local movie-night experience.\n
LOCATION:Pontiac Little Art Theatre - 47 N Saginaw St, Pontiac, MI, 48342, US
END:VEVENT

END:VCALENDAR
