BEGIN:VCALENDAR
VERSION:2.0
BEGIN:VEVENT
CLASS:PUBLIC
CATEGORIES:MEETING
DTSTART;TZID=America/Detroit:20260207T190000
DTEND;TZID=America/Detroit:20260207T190000
SUMMARY:Sweet Crystal at THE TOKEN LOUNGE
DESCRIPTION:Price: 15.00\nAge Limit: All Ages\n\nDetails: So stoked to be returning to one of the iconic venues that started our career so long ago: The Token Lounge in Westland, MI!\nThis 4 band show should make a February Saturday in Detroit warm and toasty!\n10:30pm - 11:15pm •LEVITRON\n9:30pm - 10:15pm • KING OF STRINGS\n8:30pm - 9:15pm • SWEET CRYSTAL\n7:30pm -8:15pm • LUVPLANET\nDoors open at 7pm\n$15 at the door\nMore info at https://www.facebook.com/events/1320235559872417
LOCATION:THE TOKEN LOUNGE - 28949 Joy Road, Westland, MI, 48185, US
END:VEVENT

END:VCALENDAR
