BEGIN:VCALENDAR
VERSION:2.0
BEGIN:VEVENT
CLASS:PUBLIC
CATEGORIES:MEETING
DTSTART;TZID=America/Chicago:20260227T193000
DTEND;TZID=America/Chicago:20260227T193000
SUMMARY:Texas Flood at The Lyric Theatre
DESCRIPTION:Click here to buy tickets: https://www.lyrictheater.com/events/texas-flood-a-tribute-to-stevie-ray-vaughan-fri-2-27-doors-open-6-30-p-m-show-7-30-p-m?fbclid=IwY2xjawPSkMRleHRuA2FlbQIxMABicmlkETFEWWxXWEFKZHRNeG14ZXp0c3J0YwZhcHBfaWQQMjIyMDM5MTc4ODIwMDg5MgABHlBIXB1Rj0DoFWWhw4hT2-_54Cr\nAge Limit: All Ages
LOCATION:The Lyric Theatre - 12952 Western Avenue, Blue Island, IL, 60406, US
END:VEVENT

END:VCALENDAR
