BEGIN:VCALENDAR
VERSION:2.0
BEGIN:VEVENT
CLASS:PUBLIC
CATEGORIES:MEETING
DTSTART;TZID=America/Chicago:20260417T193000
DTEND;TZID=America/Chicago:20260417T193000
SUMMARY:Texas Flood at Hub 121
DESCRIPTION:Age Limit: All Ages
LOCATION:Hub 121 - 7570 State Highway 121 South, Allen, TX, 75013, US
END:VEVENT

END:VCALENDAR
