BEGIN:VCALENDAR
VERSION:2.0
BEGIN:VEVENT
CLASS:PUBLIC
CATEGORIES:MEETING
DTSTART;TZID=America/Chicago:20260306T200000
DTEND;TZID=America/Chicago:20260306T200000
SUMMARY:Texas Flood at The Gar Hole
DESCRIPTION:Click here to buy tickets: https://garhole.net/tickets-and-merchandise/ols/products/texas-flood-mar-6-2026\nAge Limit: All Ages
LOCATION:The Gar Hole - 106 Houston Street, Anna, TX, 75409, US
END:VEVENT

END:VCALENDAR
