BEGIN:VCALENDAR
VERSION:2.0
BEGIN:VEVENT
CLASS:PUBLIC
CATEGORIES:MEETING
DTSTART;TZID=America/Chicago:20260418T190000
DTEND;TZID=America/Chicago:20260418T190000
SUMMARY:Texas Flood at The New Granbury Live
DESCRIPTION:Click here to buy tickets: https://granburylive.com/acts/texas-flood-16/\nAge Limit: All Ages
LOCATION:The New Granbury Live - 110 North Crockett Street, Granbury, TX, 76048, US
END:VEVENT

END:VCALENDAR
