BEGIN:VCALENDAR
VERSION:2.0
BEGIN:VEVENT
CLASS:PUBLIC
CATEGORIES:MEETING
DTSTART;TZID=America/Los_Angeles:20260422T123000
DTEND;TZID=America/Los_Angeles:20260422T123000
SUMMARY:Victorious Marcus at OMG 😱 GRAMMY PERFORMANCE SHOWCASE ON TUBI 1/31+NEW RECORD LABEL B&R MUSIC GROUP TOUR In Prod 🎊
DESCRIPTION:Price: Varies \nClick here to buy tickets: https://www.reverbnation.com/victoriousmarcus\nAge Limit: All Ages\n\nDetails: Happy New Year,\n\nHope all&#39;s well :) Let&#39;s Work🎇😱OMG ITS REALLY HAPPENING THANKFUL 23 BILLION VIEWS/ 2934 AWARDS INCLUDING FROM GYMNASTICS &amp; TRACK MEETS AWARDS Starred at 12 Yrs Old/NEW RECORD LABEL DEAL with B&amp;R Music Group with THE GRAMMYS SHOWCASE on Tubi Jan31st Tour in Production!!!!❤️🙏:)\nPREVIOUS AWARD SHOW Las Vegas Dec4&amp;5 for My GRAMMY EMMY EQUIVALENT MUSIC WORLDWIDE Award Fluxx Artist Of the Year - Media and Entertainment 2025 My Music, TV &amp; Radio Show &#39;The Victorious Marcus Show&#39; with BBS TV Radio &amp; Universal Music Group Distrib. \n\nBESIDES 21 COMPETITIONS PER YEAR WITH 8 AWARDS PER EVENT ELITE GYMNASTICS COMPETITIONS INCLUDING MOST OUTSTANDING BY THE OLYMPIC GYMNASTICS COACH BELA KAROLI/CAMP @12 &amp; SCHOOL GYMNASTICS COMPETITIONS AT SAME JR HIGH AS BEYONCE KNOWLES AT WELCH MIDDLE SCHOOL. I HAD STRAIGHT A&#39;S. With 6 EVENTS &amp; 8 AWARDS FOR 21 MEETS PER YEAR ELITE GYMNASTICS COMPETITIONS &amp; SCHOOL GYMNASTICS COMPETITIONS WITH 6 EVENTS &amp; 8 AWARDS FOR &amp; ALL AROUND AWARD&amp; Individual All Around Gymnastics Awards EACH COMPETITION FOR 15 YEARS TOTAL of 2520 AWARDS!!! 21 COMPETITIONS PER YEAR FOR JR OLYMPIC TRACK YEAR &amp; SCHOOL TRACK COMPETITIONS 3 AWARDS PER INDIVIDUAL EVENTS AWARDS &amp;TEAM COMPETITION FOR 4 ×100 With 3 AWARDS PER 3 EVENTS LONG JUMP &amp; 80 METER HURDLES COMPETITION &amp; SCHOOL COMPETITIONS 6 YEARS TOTAL OF 63 AWARDS PER YEAR TOTAL 378 for Jr OLYMPIC YEARS &amp; SCHOOL FOR 6 YEARS TRACK MEETS. ADDING ALL TOTAL AWARDS OF AWARDS FOR THE TEAM ALL AROUND AWARD &amp; INDIVIDUAL ALL AROUND GYMNASTICS AWARDS EACH COMPETITION FOR 15 YEARS TOTAL OF 2520 AWARD S!!! 21 COMPETITIONS PER YEAR FOR JR OLYMPIC TRACK YEAR &amp; SCHOOL TRACK COMPETITIONS 3 AWARDS PER INDIVIDUAL EVENTS AWARDS &amp; TEAM COMPETITION FOR 4 ×100 METERS RELAY WITH 3 AWARDS PER 3 EVENTS LONG JUMP &amp; 80 METER HURDLES COMPETITION &amp; SCHOOL COMPETITIONS 6 YEARS TOTAL 63 AWARDS PER Per YEAR TOTAL 378 FOR JR OLYMPIC YEARS &amp; School FOR 6 YEARS TRACK COMPETITIONS. ADDING ALL TOTAL 2934 AWARDS!!!!!\n TOTAL 2934 AWARDS &amp; CLIMBING.Thanks to whom it&#39;s due Especially God!!! Much Love God Bless/Work/Sponsors/ Investors ETC :)🎆\nhttps://nexttorisetour.com/\nwww.bbsradio.com/TheVictoriousMarcusShow www.reverbnation.com/victoriousmarcus\nhttps://mave.ly/the-victorious-marcus-shop
LOCATION:OMG 😱 GRAMMY PERFORMANCE SHOWCASE ON TUBI 1/31+NEW RECORD LABEL B&R MUSIC GROUP TOUR In Prod 🎊 - Universal, Hollywood, CA, 90249, US
END:VEVENT

END:VCALENDAR
