BEGIN:VCALENDAR
VERSION:2.0
BEGIN:VEVENT
CLASS:PUBLIC
CATEGORIES:MEETING
DTSTART;TZID=America/New_York:20260425T200000
DTEND;TZID=America/New_York:20260425T200000
SUMMARY:Bryan K Buchanan at caesar's Dive Bar
DESCRIPTION:Age Limit: All Ages
LOCATION:caesar's Dive Bar - 906 state road 20,, Interlachen, FL, 32148, US
END:VEVENT

END:VCALENDAR
