BEGIN:VCALENDAR
VERSION:2.0
BEGIN:VEVENT
CLASS:PUBLIC
CATEGORIES:MEETING
DTSTART;TZID=America/Chicago:20260906T200000
DTEND;TZID=America/Chicago:20260906T200000
SUMMARY:The Elders at KC IRISH FESTIVAL
DESCRIPTION:Click here to buy tickets: https://www.kcirishfest.com/\nAge Limit: All Ages
LOCATION:KC IRISH FESTIVAL - CROWN CENTER, Kansas City, MO, US
END:VEVENT

END:VCALENDAR
