BEGIN:VCALENDAR
VERSION:2.0
BEGIN:VEVENT
CLASS:PUBLIC
CATEGORIES:MEETING
DTSTART;TZID=America/New_York:20260725T200000
DTEND;TZID=America/New_York:20260725T200000
SUMMARY:The Elders at DAYTON CELTIC FESTIVAL 
DESCRIPTION:Price: FREE\nClick here to buy tickets: https://daytoncelticfestival.com/\nAge Limit: All Ages
LOCATION:DAYTON CELTIC FESTIVAL  - 111 E MONUMENT AVE, Dayton, OH, 45402, US
END:VEVENT

END:VCALENDAR
