BEGIN:VCALENDAR
VERSION:2.0
BEGIN:VEVENT
CLASS:PUBLIC
CATEGORIES:MEETING
DTSTART;TZID=America/Chicago:20260712T200000
DTEND;TZID=America/Chicago:20260712T200000
SUMMARY:The Elders at EARLHAM AMPHITHEATRE
DESCRIPTION:Age Limit: All Ages
LOCATION:EARLHAM AMPHITHEATRE - EARLHAM, Earlham, IA, 50072, US
END:VEVENT

END:VCALENDAR
