BEGIN:VCALENDAR
VERSION:2.0
BEGIN:VEVENT
CLASS:PUBLIC
CATEGORIES:MEETING
DTSTART:20260711T000000Z
DTEND:20260711T000000Z
SUMMARY:The Elders at SIOUX FALLS AMPHITHEATRE 
DESCRIPTION:Click here to buy tickets: https://eldersmusic.com/event/6384456/747881674/sioux-falls-amphitheater\nAge Limit: All Ages
LOCATION:SIOUX FALLS AMPHITHEATRE  - SIOUX FALLS, Sioux Falls, SD, US
END:VEVENT

END:VCALENDAR
