BEGIN:VCALENDAR
VERSION:2.0
BEGIN:VEVENT
CLASS:PUBLIC
CATEGORIES:MEETING
DTSTART;TZID=America/Chicago:20260709T200000
DTEND;TZID=America/Chicago:20260709T200000
SUMMARY:The Elders at PARKSTON AMPHITHEATER 
DESCRIPTION:Age Limit: All Ages
LOCATION:PARKSTON AMPHITHEATER  - 170 ANNA STREET, Parkston, SD, 57366, US
END:VEVENT

END:VCALENDAR
