BEGIN:VCALENDAR
VERSION:2.0
BEGIN:VEVENT
CLASS:PUBLIC
CATEGORIES:MEETING
DTSTART;TZID=America/Chicago:20260704T200000
DTEND;TZID=America/Chicago:20260704T200000
SUMMARY:The Elders at Happy Rock Park
DESCRIPTION:Click here to buy tickets: https://eldersmusic.com/event/6340776/743259057/happy-rock-park\nAge Limit: All Ages
LOCATION:Happy Rock Park - Happy Rock Park, Gladstone, MO, 64119, US
END:VEVENT

END:VCALENDAR
