BEGIN:VCALENDAR
VERSION:2.0
BEGIN:VEVENT
CLASS:PUBLIC
CATEGORIES:MEETING
DTSTART;TZID=America/New_York:20260321T200000
DTEND;TZID=America/New_York:20260321T200000
SUMMARY:The Elders at Frauenthal Center for the Performing Arts
DESCRIPTION:Click here to buy tickets: https://frauenthal.org/event/st-patricks-day-ceili-with-the-elders/\nAge Limit: All Ages
LOCATION:Frauenthal Center for the Performing Arts - Muskegon, MI, US
END:VEVENT

END:VCALENDAR
